BEGIN:VCALENDAR
VERSION:2.0
PRODID:-//Wirtschaftschemiker Münster - ECPv6.0.12//NONSGML v1.0//EN
CALSCALE:GREGORIAN
METHOD:PUBLISH
X-ORIGINAL-URL:https://wirtschaftschemiker.com
X-WR-CALDESC:Veranstaltungen für Wirtschaftschemiker Münster
REFRESH-INTERVAL;VALUE=DURATION:PT1H
X-Robots-Tag:noindex
X-PUBLISHED-TTL:PT1H
BEGIN:VTIMEZONE
TZID:Europe/Berlin
BEGIN:DAYLIGHT
TZOFFSETFROM:+0100
TZOFFSETTO:+0200
TZNAME:CEST
DTSTART:20180325T010000
END:DAYLIGHT
BEGIN:STANDARD
TZOFFSETFROM:+0200
TZOFFSETTO:+0100
TZNAME:CET
DTSTART:20181028T010000
END:STANDARD
BEGIN:DAYLIGHT
TZOFFSETFROM:+0100
TZOFFSETTO:+0200
TZNAME:CEST
DTSTART:20190331T010000
END:DAYLIGHT
BEGIN:STANDARD
TZOFFSETFROM:+0200
TZOFFSETTO:+0100
TZNAME:CET
DTSTART:20191027T010000
END:STANDARD
BEGIN:DAYLIGHT
TZOFFSETFROM:+0100
TZOFFSETTO:+0200
TZNAME:CEST
DTSTART:20200329T010000
END:DAYLIGHT
BEGIN:STANDARD
TZOFFSETFROM:+0200
TZOFFSETTO:+0100
TZNAME:CET
DTSTART:20201025T010000
END:STANDARD
BEGIN:DAYLIGHT
TZOFFSETFROM:+0100
TZOFFSETTO:+0200
TZNAME:CEST
DTSTART:20210328T010000
END:DAYLIGHT
BEGIN:STANDARD
TZOFFSETFROM:+0200
TZOFFSETTO:+0100
TZNAME:CET
DTSTART:20211031T010000
END:STANDARD
BEGIN:DAYLIGHT
TZOFFSETFROM:+0100
TZOFFSETTO:+0200
TZNAME:CEST
DTSTART:20220327T010000
END:DAYLIGHT
BEGIN:STANDARD
TZOFFSETFROM:+0200
TZOFFSETTO:+0100
TZNAME:CET
DTSTART:20221030T010000
END:STANDARD
BEGIN:DAYLIGHT
TZOFFSETFROM:+0100
TZOFFSETTO:+0200
TZNAME:CEST
DTSTART:20230326T010000
END:DAYLIGHT
BEGIN:STANDARD
TZOFFSETFROM:+0200
TZOFFSETTO:+0100
TZNAME:CET
DTSTART:20231029T010000
END:STANDARD
END:VTIMEZONE
BEGIN:VEVENT
DTSTART;TZID=Europe/Berlin:20231027T090000
DTEND;TZID=Europe/Berlin:20231027T170000
DTSTAMP:20260423T160205
CREATED:20230614T163514Z
LAST-MODIFIED:20230722T104433Z
UID:5900-1698397200-1698426000@wirtschaftschemiker.com
SUMMARY:Forum der Wirtschaftschemie 2023
DESCRIPTION:Erneut findet das Forum der Wirtschaftschemie statt. Das bevorstehende 9. Forum der Wirtschaftschemie widmet sich dem Thema: Europa im Zeichen der Nachhaltigkeit\, Regulierungen\, Innovationen. Merkt euch gerne den Termin vor und meldet euch unter https://forum.wirtschaftschemiker.com/ an!
URL:https://wirtschaftschemiker.com/events/forum-der-wirtschaftschemie-2023/
LOCATION:Schloss Münster\, Schlossplatz 2\, Münster\, 48149
ORGANIZER;CN="WUM":MAILTO:pr@wirtschaftschemiker.com
END:VEVENT
BEGIN:VEVENT
DTSTART;TZID=Europe/Berlin:20221221T193000
DTEND;TZID=Europe/Berlin:20221221T210000
DTSTAMP:20260423T160205
CREATED:20221210T171133Z
LAST-MODIFIED:20221210T171133Z
UID:5624-1671651000-1671656400@wirtschaftschemiker.com
SUMMARY:Jahreshauptversammlung
DESCRIPTION:Wie jedes Jahr\, steht auch in diesem Jahr eine Jahreshauptversammlung an. Die offizielle Einladung hierzu folgt in Kürze\, merkt euch aber gerne schon einmal den Termin vor.
URL:https://wirtschaftschemiker.com/events/jahreshauptversammlung/
LOCATION:Online
ORGANIZER;CN="WUM":MAILTO:pr@wirtschaftschemiker.com
END:VEVENT
BEGIN:VEVENT
DTSTART;VALUE=DATE:20221014
DTEND;VALUE=DATE:20221015
DTSTAMP:20260423T160205
CREATED:20220328T104952Z
LAST-MODIFIED:20220328T104952Z
UID:5172-1665705600-1665791999@wirtschaftschemiker.com
SUMMARY:WUM Alumni Treffen 2022
DESCRIPTION:Während wir an der genaueren Planung für das WUM Alumni Treffen arbeiten\, möchten wir gerne schon darüber informieren\, dass dieses 2022 am 14. Oktober stattfinden soll. Weitere Details folgen in Kürze\, jedoch freuen wir uns über alle\, die sich dieses Datum schon einmal vormerkten!
URL:https://wirtschaftschemiker.com/events/wum-alumni-treffen-2022/
END:VEVENT
BEGIN:VEVENT
DTSTART;TZID=Europe/Berlin:20221013T183000
DTEND;TZID=Europe/Berlin:20221013T200000
DTSTAMP:20260423T160205
CREATED:20220130T194759Z
LAST-MODIFIED:20220130T194759Z
UID:4692-1665685800-1665691200@wirtschaftschemiker.com
SUMMARY:YouWeCam - der digitale Stammtisch für JuWiChem Mitglieder
DESCRIPTION:JuWiChem lädt Studierende ab dem 5. Semester\, DoktorandInnen\, AbsolventInnen und Young Professionals (Berufseinstieg in den letzten 5 Jahren) zu ihrem Online-Stammtisch “YouWeCam” ein! \nDie Anmeldemöglichkeit und weitere Informationen gibt es auf ihrer Website.
URL:https://wirtschaftschemiker.com/events/youwecam-der-digitale-stammtisch-fuer-juwichem-mitglieder-5/
LOCATION:Online
END:VEVENT
BEGIN:VEVENT
DTSTART;VALUE=DATE:20221003
DTEND;VALUE=DATE:20221008
DTSTAMP:20260423T160205
CREATED:20220712T113129Z
LAST-MODIFIED:20220712T113129Z
UID:5346-1664755200-1665187199@wirtschaftschemiker.com
SUMMARY:Orientierungswoche für Studienanfänger der Wirtschaftschemie
DESCRIPTION:Auch kommendes Semester begrüßen wir Studienanfänger des Masters Wirtschaftschemie wieder durch eine einwöchige Orientierungswoche. Wir freuen uns auf eure Teilnahme! \nWeitere Infos folgen.
URL:https://wirtschaftschemiker.com/events/orientierungswoche-fuer-studienanfaenger-der-wirtschaftschemie/
END:VEVENT
BEGIN:VEVENT
DTSTART;VALUE=DATE:20220902
DTEND;VALUE=DATE:20220903
DTSTAMP:20260423T160205
CREATED:20220328T105126Z
LAST-MODIFIED:20220712T112849Z
UID:5174-1662076800-1662163199@wirtschaftschemiker.com
SUMMARY:JuWiChem Day 2022 in Düsseldorf
DESCRIPTION:Wir laden euch herzlich zum 6. JuWiChem Day am 02. September 2022 nach Düsseldorf unter dem Thema „Chemieindustrie im Wandel – Neue Rohstoffe für die Zukunft?“ ein. \nDie Anmeldung ist ab sofort unter untenstehendem Link möglich! \nWir freuen uns auf Euch!
URL:https://wirtschaftschemiker.com/events/juwichem-day-2022-in-duesseldorf/
END:VEVENT
BEGIN:VEVENT
DTSTART;TZID=Europe/Berlin:20220811T183000
DTEND;TZID=Europe/Berlin:20220811T200000
DTSTAMP:20260423T160205
CREATED:20220130T194004Z
LAST-MODIFIED:20220130T195041Z
UID:4690-1660242600-1660248000@wirtschaftschemiker.com
SUMMARY:YouWeCam - der digitale Stammtisch für JuWiChem Mitglieder
DESCRIPTION:JuWiChem lädt Studierende ab dem 5. Semester\, DoktorandInnen\, AbsolventInnen und Young Professionals (Berufseinstieg in den letzten 5 Jahren) zu ihrem Online-Stammtisch “YouWeCam” ein! \nDie Anmeldemöglichkeit und weitere Informationen gibt es auf ihrer Website.
URL:https://wirtschaftschemiker.com/events/youwecam-der-digitale-stammtisch-fuer-juwichem-mitglieder-4/
LOCATION:Online
END:VEVENT
BEGIN:VEVENT
DTSTART;VALUE=DATE:20220701
DTEND;VALUE=DATE:20220702
DTSTAMP:20260423T160205
CREATED:20220130T200308Z
LAST-MODIFIED:20220130T200435Z
UID:4699-1656633600-1656719999@wirtschaftschemiker.com
SUMMARY:Workshop mit der KPMG-Sustainability 
DESCRIPTION:Wir möchten Euch herzlich zu einem Workshop in Zusammenarbeit mit der KPMG-Sustainability einladen. \nGenauere Informationen zur Anmeldung\, Ort und etc. folgen.
URL:https://wirtschaftschemiker.com/events/workshop-mit-kpmg-sustainability/
END:VEVENT
BEGIN:VEVENT
DTSTART;TZID=Europe/Berlin:20220609T183000
DTEND;TZID=Europe/Berlin:20220609T200000
DTSTAMP:20260423T160205
CREATED:20220130T193815Z
LAST-MODIFIED:20220130T195016Z
UID:4688-1654799400-1654804800@wirtschaftschemiker.com
SUMMARY:YouWeCam - der digitale Stammtisch für JuWiChem Mitglieder
DESCRIPTION:JuWiChem lädt Studierende ab dem 5. Semester\, DoktorandInnen\, AbsolventInnen und Young Professionals (Berufseinstieg in den letzten 5 Jahren) zu ihrem Online-Stammtisch “YouWeCam” ein! \nDie Anmeldemöglichkeit und weitere Informationen gibt es auf ihrer Website.
URL:https://wirtschaftschemiker.com/events/youwecam-der-digitale-stammtisch-fuer-juwichem-mitglieder-3/
LOCATION:Online
END:VEVENT
BEGIN:VEVENT
DTSTART;TZID=Europe/Berlin:20220523T193000
DTEND;TZID=Europe/Berlin:20220523T210000
DTSTAMP:20260423T160205
CREATED:20220328T104446Z
LAST-MODIFIED:20220328T104453Z
UID:5170-1653334200-1653339600@wirtschaftschemiker.com
SUMMARY:student4student "LinkedIn"
DESCRIPTION:In dieser neuen Workshop-Reihe möchten wir Studierenden\, die sich ein bestimmtes Wissen angeeignet haben\, die Möglichkeit geben\, dieses Wissen zu teilen. Auf die Idee ist der Vorstand im Austausch mit dem deutschlandweiten JuWiChem-Netzwerk gekommen und möchte dieses Konzept nun mit einem Pilot-Workshop zum Thema „LinkedIn“ testen. Eine Anmeldung zum Workshop ist unter pr@wirtschaftschemiker.com möglich.
URL:https://wirtschaftschemiker.com/events/student4student-linkedin/
END:VEVENT
BEGIN:VEVENT
DTSTART;TZID=Europe/Berlin:20220421T170000
DTEND;TZID=Europe/Berlin:20220421T190000
DTSTAMP:20260423T160205
CREATED:20220331T192200Z
LAST-MODIFIED:20220331T192200Z
UID:5192-1650560400-1650567600@wirtschaftschemiker.com
SUMMARY:How to start your Career in Tech-Consulting for the Life Sciences & Chemical Industry mit Veeva Systems
DESCRIPTION:Über den Begriff „Consulting“ ist bereits jeder gestolpert und auch wir hatten in der Vergangenheit eine JuWiChem Academy zu diesem Thema. Aber habt Ihr Euch einmal gefragt\, was eigentlich Tech-Consulting ist? Und wo der Unterschied zwischen Tech- & Management Consulting liegt? Dann solltet Ihr die nächste JuWiChem Academy auf keinen Fall verpassen! Denn dann könnt Ihr Euch die Frage nicht nur selbst beantworten\, sondern erhaltet auch Einblicke in die Arbeit eines Tech-Consultants. \nWas? “How to start your Career in Tech-Consulting for the Life Sciences & Chemical Industry” mit Veeva Systems\nWann? Donnerstag\, 21.04.2021 von 17:00 bis 19:00 Uhr\nWo? Online in Zoom \nDer Workshop ist auf 50 Personen limitiert. Die Plätze werden nach Eingang der Anmeldung vergeben.\nDer Workshop wird geleitet von Andrea Bayer\, University Recruiter bei Veeva Systems.\nInteressiert? Dann melde Dich bis zum 10.04.2021 HIER (https://docs.google.com/forms/d/1ABXifSZ_PenGLUr3dhNFPwXzsF_b8GMlg2qVnEwXFag/edit) an! \nAlle Informationen auf einen Blick findet ihr wie immer auf unserer JuWiChem Homepage.
URL:https://wirtschaftschemiker.com/events/how-to-start-your-career-in-tech-consulting-for-the-life-sciences-chemical-industry-mit-veeva-systems/
END:VEVENT
BEGIN:VEVENT
DTSTART;TZID=Europe/Berlin:20220414T183000
DTEND;TZID=Europe/Berlin:20220414T200000
DTSTAMP:20260423T160205
CREATED:20220130T193705Z
LAST-MODIFIED:20220130T195002Z
UID:4686-1649961000-1649966400@wirtschaftschemiker.com
SUMMARY:YouWeCam - der digitale Stammtisch für JuWiChem Mitglieder
DESCRIPTION:JuWiChem lädt Studierende ab dem 5. Semester\, DoktorandInnen\, AbsolventInnen und Young Professionals (Berufseinstieg in den letzten 5 Jahren) zu ihrem Online-Stammtisch “YouWeCam” ein! \nDie Anmeldemöglichkeit und weitere Informationen gibt es auf ihrer Website.
URL:https://wirtschaftschemiker.com/events/youwecam-der-digitale-stammtisch-fuer-juwichem-mitglieder-2/
LOCATION:Online
END:VEVENT
BEGIN:VEVENT
DTSTART;TZID=Europe/Berlin:20220408T140000
DTEND;TZID=Europe/Berlin:20220408T173000
DTSTAMP:20260423T160205
CREATED:20220130T200518Z
LAST-MODIFIED:20220211T100015Z
UID:4701-1649426400-1649439000@wirtschaftschemiker.com
SUMMARY:Value Creation @ KPMG
DESCRIPTION:Nachhaltig Wert schaffen ist in aller Munde – aber was bedeutet das eigentlich konkret für Unternehmen? Schau dir mit uns ein ‚real life‘ Beispiel an und identifiziere Optimierungs- und Effizienzpotenziale für ‚Jomiko‘\, einen führenden deutschen Lebensmittelkonzern. Anhand dieses Fallbeispiels möchten wir Dir unsere Arbeit in der KPMG Strategy Group näher vorstellen und Rede und Antwort stehen zu allen Fragen\, die Du rund um das Berufsbild der/des (Wirtschafts-)Chemiker:in in der Beratung hast. \nIm Anschluss (für alle die noch Lust haben) besteht die Möglichkeit für ein gemeinsames Dinners in Münster.
URL:https://wirtschaftschemiker.com/events/case-study-mit-der-kpmg-strategy/
END:VEVENT
BEGIN:VEVENT
DTSTART;TZID=Europe/Berlin:20220309T190000
DTEND;TZID=Europe/Berlin:20220309T190000
DTSTAMP:20260423T160205
CREATED:20220214T093106Z
LAST-MODIFIED:20220214T093106Z
UID:4735-1646852400-1646852400@wirtschaftschemiker.com
SUMMARY:Vereinstreffen März 2022
DESCRIPTION:Am 09.03.2022 lädt der WUM e.V Vorstand die Mitglieder um 19:00 Uhr zum ersten Vereinstreffen im Jahr 2022 ein. \nAufgrund der aktuellen Situation wird das Treffen wieder im Online-Format stattfinden\, dennoch wird es einiges zu berichten geben. \nDie Zugangsdaten für das Meeting wurden bereits über die gängigen Kommunikationskanäle verteilt. \n 
URL:https://wirtschaftschemiker.com/events/vereinstreffen-maerz-2022/
LOCATION:Online
ORGANIZER;CN="WUM":MAILTO:pr@wirtschaftschemiker.com
END:VEVENT
BEGIN:VEVENT
DTSTART;TZID=Europe/Berlin:20220210T183000
DTEND;TZID=Europe/Berlin:20220210T200000
DTSTAMP:20260423T160205
CREATED:20220130T193457Z
LAST-MODIFIED:20220130T194928Z
UID:4681-1644517800-1644523200@wirtschaftschemiker.com
SUMMARY:YouWeCam - der digitale Stammtisch für JuWiChem Mitglieder
DESCRIPTION:JuWiChem lädt Studierende ab dem 5. Semester\, DoktorandInnen\, AbsolventInnen und Young Professionals (Berufseinstieg in den letzten 5 Jahren) zu ihrem Online-Stammtisch “YouWeCam” ein! \nDie Anmeldemöglichkeit und weitere Informationen gibt es auf ihrer Website.
URL:https://wirtschaftschemiker.com/events/youwecam-der-digitale-stammtisch-fuer-juwichem-mitglieder/
LOCATION:Online
END:VEVENT
BEGIN:VEVENT
DTSTART;TZID=Europe/Berlin:20211124T090000
DTEND;TZID=Europe/Berlin:20211124T160000
DTSTAMP:20260423T160205
CREATED:20210522T172308Z
LAST-MODIFIED:20210522T172441Z
UID:3674-1637744400-1637769600@wirtschaftschemiker.com
SUMMARY:Forum der Wirtschaftschemie 2021
DESCRIPTION:Das 8.te Forum der Wirtschaftschemie steht diesen November an! Die Vorbereitungen laufen auf Hochtouren und wir freuen uns auf eure Teilnahme!
URL:https://wirtschaftschemiker.com/events/forum-der-wirtschaftschemie-2021/
END:VEVENT
BEGIN:VEVENT
DTSTART;TZID=Europe/Berlin:20211008T100000
DTEND;TZID=Europe/Berlin:20211008T120000
DTSTAMP:20260423T160205
CREATED:20210522T171804Z
LAST-MODIFIED:20210522T172448Z
UID:3672-1633687200-1633694400@wirtschaftschemiker.com
SUMMARY:ASI-Workshop: Die 7 Todsünden bei Bewerbung und Berufsstart
DESCRIPTION:Anfang Oktober planen wir unseren Workshop mit der ASI zum Thema “Die 7 Todsünden bei Bewerbung und Berufsstart”. Unverzichtbares Wissen für alle Masterstudierenden und baldigen Berufseinsteiger!
URL:https://wirtschaftschemiker.com/events/asi-workshop-die-7-todsuenden-bei-bewerbung-und-berufsstart/
END:VEVENT
BEGIN:VEVENT
DTSTART;TZID=Europe/Berlin:20211004T080000
DTEND;TZID=Europe/Berlin:20211008T170000
DTSTAMP:20260423T160205
CREATED:20210522T171353Z
LAST-MODIFIED:20210522T172454Z
UID:3670-1633334400-1633712400@wirtschaftschemiker.com
SUMMARY:O-Woche 2021
DESCRIPTION:Auch dieses Jahr organisiert der WUM die Orientierungswoche für die neuen Masterstudierenden und begrüßt unsere neuen Kommilitonen! Seid gespannt auf weitere Details!
URL:https://wirtschaftschemiker.com/events/o-woche-2021/
END:VEVENT
BEGIN:VEVENT
DTSTART;TZID=Europe/Berlin:20210119T140000
DTEND;TZID=Europe/Berlin:20210119T160000
DTSTAMP:20260423T160205
CREATED:20201105T195023Z
LAST-MODIFIED:20201105T195023Z
UID:3087-1611064800-1611072000@wirtschaftschemiker.com
SUMMARY:Workshop mit ASI 2021
DESCRIPTION:Am 19.01.2021 findet ein Workshop mit der ASI Wirtschaftsberatung zum Thema Gehaltsverhandlung und soziale Absicherung vor/während des Studiums statt. \nDer Workshop wird online ab 14:00 Uhr über ZOOM stattfinden. \nAnmeldung per Mail über pr@wirtschaftschemiker.com.
URL:https://wirtschaftschemiker.com/events/workshop-mit-asi-2021/
ORGANIZER;CN="WUM":MAILTO:pr@wirtschaftschemiker.com
END:VEVENT
BEGIN:VEVENT
DTSTART;TZID=Europe/Berlin:20201126T190000
DTEND;TZID=Europe/Berlin:20201126T210000
DTSTAMP:20260423T160205
CREATED:20201105T194417Z
LAST-MODIFIED:20201105T195414Z
UID:3083-1606417200-1606424400@wirtschaftschemiker.com
SUMMARY:Alumni-Event
DESCRIPTION:Das Alumni-Event 2020 findet am 26.11.2020 um 19:00 über ZOOM statt. \nAnmeldung per Mail über pr@wirtschaftschemiker.com.
URL:https://wirtschaftschemiker.com/events/alumni-event/
ORGANIZER;CN="WUM":MAILTO:pr@wirtschaftschemiker.com
END:VEVENT
BEGIN:VEVENT
DTSTART;TZID=Europe/Berlin:20201117T100000
DTEND;TZID=Europe/Berlin:20201117T120000
DTSTAMP:20260423T160205
CREATED:20201105T194727Z
LAST-MODIFIED:20201105T195112Z
UID:3085-1605607200-1605614400@wirtschaftschemiker.com
SUMMARY:ALTANA-Workshop 2020
DESCRIPTION:Am 17.11.2020 veranstalten wir einen Workshop mit ALTANA zum Thema Corporate Venture. \nDer Workshop findet von 10 Uhr bis 12 Uhr online über ZOOM statt. \nAnmeldung per Mail über pr@wirtschaftschemiker.com.
URL:https://wirtschaftschemiker.com/events/altana-workshop-2020/
ORGANIZER;CN="WUM":MAILTO:pr@wirtschaftschemiker.com
END:VEVENT
BEGIN:VEVENT
DTSTART;TZID=Europe/Berlin:20201030T140000
DTEND;TZID=Europe/Berlin:20201030T160000
DTSTAMP:20260423T160205
CREATED:20201023T125647Z
LAST-MODIFIED:20201025T122005Z
UID:3049-1604066400-1604073600@wirtschaftschemiker.com
SUMMARY:MLP Workshop "Bewerbungen im digitalen Zeitalter"
DESCRIPTION:Für alle WUM-Mitglieder findet ein Online-Bewerbungstraining der MLP zum Thema “Bewerbungen im digitalen Zeitalter” statt. So seid ihr direkt gewappnet für zukünftige Praktika im Master! Wenn Ihr Lust habt daran teilzunehmen\, dann schickt einfach eine E-Mail an Lilli (pr@wirtschaftschemiker.com).
URL:https://wirtschaftschemiker.com/events/mlp-workshop-bewerbung-im-digitalen-zeitalter/
END:VEVENT
BEGIN:VEVENT
DTSTART;VALUE=DATE:20201026
DTEND;VALUE=DATE:20201031
DTSTAMP:20260423T160205
CREATED:20201015T163206Z
LAST-MODIFIED:20201023T125026Z
UID:3012-1603670400-1604102399@wirtschaftschemiker.com
SUMMARY:Orientierungswoche 2020
DESCRIPTION:Vom 26.10. bis zum 30.10.2020 findet für alle interessierten Studienanfänger*innen die Orientierungswoche der Wirtschaftschemie in Münster statt. Hier haben die Studienanfänger*innen schonmal die Möglichkeit das Studium\, die Kommilitonen\, sowie den WUM kennen zu lernen!
URL:https://wirtschaftschemiker.com/events/orientierungswoche-2020-kennenlernabend/
END:VEVENT
BEGIN:VEVENT
DTSTART;VALUE=DATE:20191129
DTEND;VALUE=DATE:20191130
DTSTAMP:20260423T160205
CREATED:20190504T103113Z
LAST-MODIFIED:20191008T192645Z
UID:1588-1574985600-1575071999@wirtschaftschemiker.com
SUMMARY:7. Forum der Wirtschaftschemie (2019)
DESCRIPTION:Herzlich Einladung zum 7. Forum der Wirtschaftschemie im Fürstbischöflichen Schloss Münster. \nDas Thema der Veranstaltung lautet dieses Jahr “Nachhaltiges und sicheres Handeln – Welche Verantwortung trägt die chemische Industrie?”. \nTeilnehmende Firmen in diesem Jahr sind die ALTANA AG\, BASF\, Brenntag\, Dow und Evonik. Wir freuen uns auf interessante Vorträge und Diskussionen und laden alle Interessierten herzlich ein. \nDie Teilnahme (inkl. kleinem Imbiss und Getränken) ist kostenlos\, und erfordert eine Anmeldung. \nHier geht es zur Anmeldung \nWeitere Informationen und die teilnehmenden Firmen gibt es hier.
URL:https://wirtschaftschemiker.com/events/7-forum-der-wirtschaftschemie/
END:VEVENT
BEGIN:VEVENT
DTSTART;TZID=Europe/Berlin:20190527T093000
DTEND;TZID=Europe/Berlin:20190527T120000
DTSTAMP:20260423T160205
CREATED:20190409T173823Z
LAST-MODIFIED:20190429T151538Z
UID:1505-1558949400-1558958400@wirtschaftschemiker.com
SUMMARY:A.S.I. Workshop 2019
DESCRIPTION:Wir möchten Euch herzlich zu einem Workshop mit dem Titel “Erfolgsgeheimnisse der Bewerbung” in Zusammenarbeit mit der A.S.I. Wirtschaftsberatung einladen. \nUm am Workshop teilzunehmen ist eine Anmeldung per Mail an pr@wirtschaftschemiker.com bis spätestens 20.Mai 2019 erforderlich.
URL:https://wirtschaftschemiker.com/events/a-s-i-workshop-2019/
END:VEVENT
BEGIN:VEVENT
DTSTART;TZID=Europe/Berlin:20181109T150000
DTEND;TZID=Europe/Berlin:20181109T190000
DTSTAMP:20260423T160205
CREATED:20181002T203525Z
LAST-MODIFIED:20181002T205658Z
UID:1195-1541775600-1541790000@wirtschaftschemiker.com
SUMMARY:Alumni-Treffen 2018
DESCRIPTION:Am 09. November 2018 veranstaltet der WUM e.V. ein Alumni-Treffen für die aktuell studierenden Mitglieder und bereits graduierte. \nEinige ehemalige Wirtschaftschemiestudierende der Universität Münster und Mitglieder des WUM e.V. werden kurze Vorträge über ihre Karrierewege und Erfahrungen halten. Die Studierenden bekommen somit einen kleinen Einblick in die vielfältigen Möglichkeiten\, die einem Absolventen der Wirtschaftschemie offen stehen. Zudem gibt es Zeit und die passende Atmosphäre\, um mit den ehemaligen WUMlern ungezwungen plaudern zu können\, weitere Fragen zu klären und vielleicht für sich selbst die ein oder andere Richtung ausloten zu können. \nAlle Alumnis sind herzlich eingeladen\, um alte Kommilitonen wieder zu treffen\, mit neuen engagierten Studierenden zu netzwerken oder um einfach einen spannenden und angenehmen Nachmittag mit Kaffee und Kuchen zu verbringen. \nWir freuen uns auf euch! \nP.S.: Bei weiteren Fragen meldet euch bitte bei einem der Vorsitzenden. \n 
URL:https://wirtschaftschemiker.com/events/alumni-treffen-2018/
LOCATION:SRZ 5\, Orléans-Ring 12\, Münster
ORGANIZER;CN="WUM":MAILTO:pr@wirtschaftschemiker.com
END:VEVENT
BEGIN:VEVENT
DTSTART;TZID=Europe/Berlin:20181030T093000
DTEND;TZID=Europe/Berlin:20181030T160000
DTSTAMP:20260423T160205
CREATED:20181002T205220Z
LAST-MODIFIED:20181123T160413Z
UID:1199-1540891800-1540915200@wirtschaftschemiker.com
SUMMARY:ChInFo Münster 2018
DESCRIPTION:Gemeinsam mit dem JCF (Jungchemiker Forum) Münster\, werden wir am 30.10.2018 das Chemie-Industrie-Forum\, kurz ChInFo\, in Münster veranstalten. \nDas ChInFo ist eine Jobmesse bei der ihr die Chance habt mit Vertretern aus der Chemiebranche in Kontakt zu treten. Außerdem werden spannende Vorträge von den Vertretern der Unternehmen gehalten. Der Ablauf der Veranstaltung sieht wie folgt aus: \n9:30-10:00 Eröffnung der Messe \n10:00-10:25 Altana \n10:30-10:55 Thescon \n11:00-11:25 DOW \n11:30-11:55 Covestro \n12:00-13:30 Mittagspause \n13:30-13:55 ASI \n14:00-14:25 P&G \n14:30-14:55 BASF \nAb 15:00 Get together \nDie Teilnahme ist kostenlos\, bei Voranmeldung per E-Mail (chinfomuenster@gmail.com) wird euch ein Namensschild erstellt. \nWer sich also noch orientieren möchte\, in welche Richtung es gehen soll\, wer schon genaue Vorstellungen hat und hier einige Möglichkeiten ausloten möchte und auf Praktikumssuche ist oder wer bereits einen Job sucht – bei der ChInFo seid ihr alle richtig. \nWir freuen uns auf euch und einen spannenden Tag!
URL:https://wirtschaftschemiker.com/events/chinfo-muenster-2018/
LOCATION:Chemie-Volesungsgebäude der Uni Münster\, Wilhelm-Klemm-Straße 6\, Münster
END:VEVENT
BEGIN:VEVENT
DTSTART;TZID=Europe/Berlin:20181017T193000
DTEND;TZID=Europe/Berlin:20181017T210000
DTSTAMP:20260423T160205
CREATED:20181002T210917Z
LAST-MODIFIED:20181002T211321Z
UID:1204-1539804600-1539810000@wirtschaftschemiker.com
SUMMARY:Erstes Organisationstreffen im WS 18/19
DESCRIPTION:Am 17.10.2018 findet um 19:30 Uhr das erste Organisationstreffen des WUM e.V. im Wintersemester 18/19 statt. \nEs gibt Einiges für die bevorstehenden Veranstaltungen zu planen. Außerdem wollen wir die neuen Studierenden bei einem Bier und ein paar Snacks besser kennen lernen. \nDer WUM e.V. bietet nicht nur eine Möglichkeit um mit der Industrie und Alumnis zu vernetzen\, sondern auch um die jetzigen Studierenden untereinander und mit Studierenden anderer Jahrgänge zusammenzubringen. Wir wollen eine angenehme Atmosphäre schaffen\, in der sich jeder einbringen kann und Fragen gestellt werden können\, sei es über Uni\, Masterarbeit\, Auslandssemester\, Praktika\, … \nBis zum 17.10.2018 in unserem Seminarraum am Leonardo Campus!
URL:https://wirtschaftschemiker.com/events/erstes-organisationstreffen-im-ws-18-19/
LOCATION:Leo-Campus 1\, Leonardo-Campus 1\, Münster\, 48149\, Deutschland
ORGANIZER;CN="WUM":MAILTO:pr@wirtschaftschemiker.com
END:VEVENT
BEGIN:VEVENT
DTSTART;TZID=Europe/Berlin:20180610T170000
DTEND;TZID=Europe/Berlin:20180611T200000
DTSTAMP:20260423T160205
CREATED:20180421T121619Z
LAST-MODIFIED:20180424T180800Z
UID:472-1528650000-1528747200@wirtschaftschemiker.com
SUMMARY:Sustainability - renew\, resource\, rethink
DESCRIPTION:Beim diesjährigen ACHEMA-Kongress\, der vom 11.06. bis zum 15.06.2018 in Frankfurt stattfindet\, haben sich die JuWiChem zusammen mit dem JCF\, der GDCh und dem EYCN um eine eigene Session bemüht. Die Veranstaltung mit dem Titel “Sustainability – renew\, resource\, rethink” wird am Montag\, den 11.06.2018 um 15 Uhr stattfinden. Wie der Name schon sagt geht es um Nachhaltigkeit\, innovative Lösungen\, zukunftsorientierte Forschung und Wirtschaft. Weitere Informationen zu dem gesamten ACHEMA-Kongress sowie der Sustainability-Veranstaltung findet ihr auf der Website der JuWiChem. Dort könnt ihr euch auch anmelden. \n\nAchema 2018: „Sustainability – renew\, resource and rethink“ \n\nDie Anmeldung ist noch bis zum 15.05.2018 geöffnet.
URL:https://wirtschaftschemiker.com/events/sustainability-renew-resource-rethink/
LOCATION:Frankfurt
END:VEVENT
BEGIN:VEVENT
DTSTART;TZID=Europe/Berlin:20180608T100000
DTEND;TZID=Europe/Berlin:20180608T160000
DTSTAMP:20260423T160205
CREATED:20180423T151618Z
LAST-MODIFIED:20180424T180815Z
UID:919-1528452000-1528473600@wirtschaftschemiker.com
SUMMARY:4. JuWiChem meets Industry
DESCRIPTION:Der JuWiChem lädt euch zum 4. JuWiChem meets Industry zu Brenntag nach Essen ein. Dabei erhaltet ihr einen Einblick in den Arbeitsalltag eines Chemikaliendistributeurs und habt eine tolle Möglichkeit mit Entscheidungsträgern bei Brenntag zu netzwerken. \nDie Anmeldung erfolgt durch eine Email mit drei Sätzen zu euch und eurem Studium an christina.bauhaus@brenntag.de. \nBrenntag übernimmt zudem einen Teil der Reisekosten für Bewerber ohne NRW-Semesterticket. \nJuWiChem meets Industry_Brenntag
URL:https://wirtschaftschemiker.com/events/4-juwichem-meets-industry/
LOCATION:Essen
ORGANIZER;CN="JuWiChem":MAILTO:info@juwichem.de
END:VEVENT
END:VCALENDAR